BEGIN:VCALENDAR
VERSION:2.0
PRODID:-//LebenSkunst - ECPv6.15.14//NONSGML v1.0//EN
CALSCALE:GREGORIAN
METHOD:PUBLISH
X-WR-CALNAME:LebenSkunst
X-ORIGINAL-URL:https://gabriele-panning.de
X-WR-CALDESC:Veranstaltungen für LebenSkunst
REFRESH-INTERVAL;VALUE=DURATION:PT1H
X-Robots-Tag:noindex
X-PUBLISHED-TTL:PT1H
BEGIN:VTIMEZONE
TZID:Europe/Berlin
BEGIN:DAYLIGHT
TZOFFSETFROM:+0100
TZOFFSETTO:+0200
TZNAME:CEST
DTSTART:20150329T010000
END:DAYLIGHT
BEGIN:STANDARD
TZOFFSETFROM:+0200
TZOFFSETTO:+0100
TZNAME:CET
DTSTART:20151025T010000
END:STANDARD
BEGIN:DAYLIGHT
TZOFFSETFROM:+0100
TZOFFSETTO:+0200
TZNAME:CEST
DTSTART:20160327T010000
END:DAYLIGHT
BEGIN:STANDARD
TZOFFSETFROM:+0200
TZOFFSETTO:+0100
TZNAME:CET
DTSTART:20161030T010000
END:STANDARD
BEGIN:DAYLIGHT
TZOFFSETFROM:+0100
TZOFFSETTO:+0200
TZNAME:CEST
DTSTART:20170326T010000
END:DAYLIGHT
BEGIN:STANDARD
TZOFFSETFROM:+0200
TZOFFSETTO:+0100
TZNAME:CET
DTSTART:20171029T010000
END:STANDARD
BEGIN:DAYLIGHT
TZOFFSETFROM:+0100
TZOFFSETTO:+0200
TZNAME:CEST
DTSTART:20180325T010000
END:DAYLIGHT
BEGIN:STANDARD
TZOFFSETFROM:+0200
TZOFFSETTO:+0100
TZNAME:CET
DTSTART:20181028T010000
END:STANDARD
BEGIN:DAYLIGHT
TZOFFSETFROM:+0100
TZOFFSETTO:+0200
TZNAME:CEST
DTSTART:20190331T010000
END:DAYLIGHT
BEGIN:STANDARD
TZOFFSETFROM:+0200
TZOFFSETTO:+0100
TZNAME:CET
DTSTART:20191027T010000
END:STANDARD
END:VTIMEZONE
BEGIN:VEVENT
DTSTART;TZID=Europe/Berlin:20180310T143000
DTEND;TZID=Europe/Berlin:20180310T170000
DTSTAMP:20260422T120954
CREATED:20180127T113738Z
LAST-MODIFIED:20180215T122723Z
UID:3021-1520692200-1520701200@gabriele-panning.de
SUMMARY:Ein Segen darfst Du sein
DESCRIPTION:Impulse für Körper\, Geist und Seele\nBewegung – Stille – kreatives Tun\nDer Arbeitsmodus hat unsere Zeitgestaltung längst wieder fest im Griff.\nMeistens drängen sich dann sachbezogene Aufgaben und Anforderungen in den Vordergrund.\nIch als Person bin oft nur noch das „ausführende Organ“. \nDoch das wichtigste Arbeitsinstrument sind Sie selber!\nGeht es Ihnen gut\, geht es Ihrer Tätigkeit gut. Sind Sie mit sich im Lot\, ist es auch Ihre Tätigkeit.\nUm so notwendiger ab und zu einen Schritt zurück zu treten\, inne zu halten und sich neu auszurichten. \nMit kreativen Impulsen\, in der Stille\, mit angeleiteter Körperbewegung und aktiver Gestaltung können Sie in diesem Workshop\n– sich Ihrer wunderbaren Lebenskräfte vergewissern\n– Altlasten verabschieden\n– sich für neue Erfahrungen öffnen\n– sich bewusst werden\, dass die Kräfte des Universums Sie unterstützen und tragen\n– Begleitung erfahren\n– Segen erleben \nIch freue mich\, Ihrem einzigartigen Sein Raum zu geben! \nTERMINÄNDERUNG BEACHTEN!! \nTERMIN:  Samstag\, 10. März 2018\, von 14.30 bis 17.00 Uhr\nORT:         „Raum für Lebenskunst“\, Schloßstraße 8\, 63150 Heusenstamm\nKOSTEN:  € 35\,00\nANMELDUNG:  kontakt@gabriele-panning.de  oder telefonisch: 0172-6741082 \n 
URL:https://gabriele-panning.de/event/ein-segen-darfst-du-sein/
LOCATION:Raum für Lebenskunst\, Schloßstraße 8\, Heusenstamm\, Hessen\, 63150\, Deutschland
END:VEVENT
BEGIN:VEVENT
DTSTART;TZID=Europe/Berlin:20180224T153000
DTEND;TZID=Europe/Berlin:20180224T173000
DTSTAMP:20260422T120954
CREATED:20180209T185636Z
LAST-MODIFIED:20180215T123023Z
UID:3068-1519486200-1519493400@gabriele-panning.de
SUMMARY:Leben bewegen  -  Schnupperkurs InterPlay®
DESCRIPTION:In Leichtigkeit und Freude zu Klarheit und Orientierung \nFür alle\, die\n–  ihrem Kopf mal eine Pause gönnen möchten\n–  Freude haben an den unterschiedlichen Möglichkeiten des Körpers\n–  wieder mehr auf sich selber hören möchten\n–  Leichtigkeit und Freude erleben wollen\n–  sich selber überraschen wollen \nKleinschrittige Anleitung einfacher Bewegungsabläufe  –  kleine Wort-Spiele  –  story-telling  –  Stille-Erfahrung  –  eigensinnige Entfaltung \nGeeignet für jedes Alter und jede Form von Beweglichkeit. Ohne Vorkenntnisse. \n 
URL:https://gabriele-panning.de/event/leben-bewegen-schnupperkurs-interplay/
LOCATION:Raum für Lebenskunst\, Spessartstraße 8A\, Dietzenbach\, Hessen\, 63128
CATEGORIES:InterPlay
END:VEVENT
BEGIN:VEVENT
DTSTART;TZID=Europe/Berlin:20170325T110000
DTEND;TZID=Europe/Berlin:20170325T180000
DTSTAMP:20260422T120954
CREATED:20170210T115028Z
LAST-MODIFIED:20170210T115028Z
UID:2795-1490439600-1490464800@gabriele-panning.de
SUMMARY:InterPlay®  -  Leben bewegen
DESCRIPTION:DU wünschst Dir\n\n\nmal wieder richtig abschalten\ntief durchatmen und den Alltag loslassen\nneue Möglichkeiten entdecken\nmich einfach freuen\, gemeinsam lachen\, Leichtigkeit erleben\nunnützes Zeugs los werden\n\nQuellen in mir wieder spüren\n\nneuen Zugang zu meinem Körper als Unterstützer\neinen andere Erfahrung von Spiritualität … ??!!\n\nKomm zum interaktiven\, leichtfüßigen\, spielerisch&spirituellen Workshop mit InterPlay im Evangelischen Frauenbegegnungszentrum Frankfurt!\nSpiele  –  schwinge  –  schweige  –  steh still oder bewege Dich intensiv  –  hör hin  –  stimm ein  –  \nbleib bei Dir oder folge Anderen  –   Schau zu  –  mach mit  –   fühle Freiheit   –   „lass Dich gehen!“\n  \nDu  findest neue Bewegungsabläufe\, spürst die eigene Kraft aus dem Körper und erlebst die Freude am einfachen Da-sein.\nBewegung entsteht mit Leichtigkeit durch einfach angeleitete Abläufe\, leistungsfrei und voller Freude.\nWir reden drauf los\, tanzen mit einer Hand\, gehen in Kontakt\, sind laut und leise und spüren der Stille nach. \nKörper\, Sprache\, Stimme\, Stille Innehalten und Wahrnehmen wechseln ab und führen in ein gutes Verbunden-sein mit uns selber und untereinander. \nDiese Bewegungsarbeit ist spielerisch UND spirituell. \nWir kommen in Fluss\, hören auf den Körper\, erleben tiefe Verbundenheit und entdecken neue Möglichkeit zu handeln.\nDabei spüren wir hin auf das\, was uns gut tut und holen uns mehr davon. \nUnabhängig von Alter und Beweglich kann Jede sofort mitmachen! \n  \nAnmeldung bitte direkt über das evangelische Frauenbegegnungszentrum (Kontaktdaten siehe unten) \nDie Veranstaltung im EVA findest Du unter diesem Link: https://eva-frauenzentrum.de/eva-events/2017-03-25/ \nIch freue mich auf einen bewegten Nachmittag!!
URL:https://gabriele-panning.de/event/interplay-leben-bewegen/
LOCATION:Evangelisches Frauenbegegnungszentrum Frankfurt\, Saalgasse 15\, 60311 Frankfurt\, Hessen\, Deutschland
CATEGORIES:InterPlay,InterPlay-Workshop
ATTACH;FMTTYPE=image/jpeg:https://gabriele-panning.de/wp-content/uploads/2017/02/Kontakt-1-1.jpg
ORGANIZER;CN="Evangelisches Frauenbegegnungszentrum%2C Frankfurt":MAILTO:eva-frauenzentrum@frankfurt-evangelisch.de
END:VEVENT
BEGIN:VEVENT
DTSTART;TZID=Europe/Berlin:20170304T100000
DTEND;TZID=Europe/Berlin:20170304T170000
DTSTAMP:20260422T120954
CREATED:20170202T162731Z
LAST-MODIFIED:20170210T162209Z
UID:2761-1488621600-1488646800@gabriele-panning.de
SUMMARY:Leben bewegen  -  spielerisch eigene Kraftquellen aufschließen
DESCRIPTION:Sie möchten\n\nmal richtig abschalten\ntief durchatmen und den Alltag loslassen\neingefahrene AlltagsMuster verlassen und noch unbekannte Möglichkeiten entdecken\neinen neuen Zugang zu den Quellen in sich selber aufschließen\neinfache Hilfsmittel haben\, um aus dem Vielerlei zur Mitte zu finden\neinfach Freude erleben\nGemeinschaft erfahren …..    ??!!\n\nKommen Sie zum interaktiven\, leichtfüßigen\, lustvollen und spielerischen Workshop mit InterPlay in der Evangelischen Familienbildungsstätte Werra-Meissner: \nLeben bewegen  –  spielerisch eigene Kraftquellen aufschließen!\nSpiele  –  schwinge  –  schweige  –  steh still oder bewege Dich intensiv  –  hör hin  –  stimm ein  –  bleib bei Dir oder folge Anderen\n \nSchau zu  –  mach mit  –  fühle Freiheit  –  „lass Dich gehen!“ \nSie finden neue Bewegungsabläufe\, spüren die eigene Kraft aus dem Körper und erleben die Freude am einfachen Da-sein.\nBewegung erfolgt mit Leichtigkeit durch einfach angeleitete Abläufe\, leistungsfrei und voller Freude. Wir reden drauf los\, tanzen mit einer Hand oder spüren die Stille.\nKörper\, Sprache\, Stimme\, Stille\, Innehalten und Wahrnehmen wechseln ab und führen in ein gutes Verbunden-sein. \nDiese Bewegungsarbeit ist spielerisch UND spirituell. Wir kommen in Fluss\, weiten unsere Perspektiven\, entdecken neue Möglichkeit zu handeln. Dabei spüren wir \, was uns gut tut und holen uns mehr davon. \nUnabhängig von Alter und Beweglich kann Jede sofort mitmachen. \n  \nAnmeldung bitte möglichst bald direkt an die Familienbildungsstätte:\nLeben in Bewegung bringen – spielerisch die eigenen Kraftquellen entdecken. \n \n 
URL:https://gabriele-panning.de/event/leben-bewegen-spielerisch-eigene-kraftquellen-aufschliessen/
LOCATION:Evangelische Familienbildungsstätte Werra-Meissner\, Anlagen 14a\, Eschwege\, 37269\, Deutschland
CATEGORIES:InterPlay,InterPlay-Workshop
ATTACH;FMTTYPE=image/jpeg:https://gabriele-panning.de/wp-content/uploads/2017/02/innere-Kraftquelle.jpg
END:VEVENT
BEGIN:VEVENT
DTSTART;TZID=Europe/Berlin:20170217T190000
DTEND;TZID=Europe/Berlin:20170217T220000
DTSTAMP:20260422T120954
CREATED:20170208T104424Z
LAST-MODIFIED:20170209T141534Z
UID:2777-1487358000-1487368800@gabriele-panning.de
SUMMARY:Performance zur Vernissage: Wahrheits-Kämpfer
DESCRIPTION:Kriege\, Verfolgungen\, Unrechtsregime…  immer länger wird die Liste der Krisenherde in unserer Welt. \nDie Versuchung ist:  wegschauen  –   Kopf in den Sand  –   „daswirdschonirgendwiewieder“…     –  oder…?? \n  \nIm Atelier 13 der freien Künstlerin und Malerin Susanne Köhler stellen 13 Künstlerinnen und Künstler \nihre Portraits von inhaftierten und ermordeten Journalisten aus. \nSie haben in der Passion eines fairen Journalismus Gefahren für Leib und Leben nicht gescheut\, um der Welt über das Unsägliche zu berichten. \nDafür haben Sie mit dem Leben bezahlt. \n  \nNun erhalten wir im Atelier 13 mit einer Portrait-Ausstellung Anteil an dem\, was die Künstler bewegt und was uns alle betrifft. \nAm Freitag\, 17.02. 2017 ist die Vernissage im Atelier 13\, Heddernheimer Landstraße 13 in Frankfurt. \nEröffnet wird sie durch den Gastredner Thomas Seiterich \, Redakteur der Zeitschrift Publik Forum. \nAnschließend werde ich das Schauen und Gedenken mit einer Performance eröffnen!!\nHerzliche Einladung!\nGabriele Henriette Panning \n  \nBeitragsbild: Ausschnitt aus dem Einladungsbild von Christine Krahé \n  \n 
URL:https://gabriele-panning.de/event/performance-zur-vernissage-wahrheits-kaempfer/
LOCATION:Atelier 13\, Heddernheimer Landstraße 13\, Frankfurt\, Hessen\, 60439\, Deutschland
CATEGORIES:Performance
END:VEVENT
BEGIN:VEVENT
DTSTART;TZID=Europe/Berlin:20161115T180000
DTEND;TZID=Europe/Berlin:20161115T200000
DTSTAMP:20260422T120954
CREATED:20160805T064536Z
LAST-MODIFIED:20160922T152949Z
UID:2526-1479232800-1479240000@gabriele-panning.de
SUMMARY:Bibliodrama im November
DESCRIPTION:Dienstag 15. November 2016\, 18.00 bis 20.00 Uhr \n„Sofort richtete sie sich auf“  –  ein Abend mit Bibliodrama zu Lukas 13\,10-17\nSie wünschen sich: \n> heilsame Impulse\n> Glaubenserfahrung in einer Gruppe Gleichgesinnter\n>  Unterstützung in der eigenen Lebenssituationen\n> spirituelle Vertiefung\n>  Frohbotschaft\, die mich berührt \nHerzliche Einladung zu einem bewegenden Abend im evangelischen Frauenbegegnungszentrum in Frankfurt! \nNiederdrückende Lebenserfahrungen\,\nübersehen-werden\,\ndie eigene Person immer nur am Rande wahrgenommen\nsich krumm und buckelig arbeiten – viele Frauen könnten dazu Bücher schreiben. \nWas möglich wird\, wenn dann doch ein Mensch hin sieht und versteht…\nwie Annahme und Befreiung sich unerwartet ereignen…\nwie heilsam das biblische Wort HEUTE wirkt… \n  \ndafür gehen wir hinein in das\, was der Evangelisten Lukas für uns aufgeschrieben hat.\nWir hören auf das\, was JETZT zu uns spricht und geben der Erfahrung einen Ausdruck. \nIm Spiegel dieser Frauen-Erzählung spüren wir an dem Abend der Frau nach\, die jede Einzelne jetzt ist in diesem Augenblick.\nWir stehen auf und stehen ein für die eigene Lebendigkeit.\n \nIm Bibliodrama öffnet sich der Raum des biblischen Textes durch kreative Zugänge.\nDer „alte“ Text wird lebendig.\nIch erfahre mich selber und etwas von meiner Geschichte mit Gott in diesem TextRaum.\nWir nutzen ihn wie einen Spiegel\, in dem wir  unserer Geschichte begegnen und – mitten darin –  dem göttlichen Geheimnis. \n 
URL:https://gabriele-panning.de/event/bibliodrama/
LOCATION:Saalgasse 15\, Frankfurt\, 60311\, Deutschland
CATEGORIES:Bibliodrama-Workshop
ORGANIZER;CN="Evangelisches Frauenbegegnungszentrum%2C Frankfurt":MAILTO:eva-frauenzentrum@frankfurt-evangelisch.de
END:VEVENT
BEGIN:VEVENT
DTSTART;TZID=Europe/Berlin:20161105T140000
DTEND;TZID=Europe/Berlin:20161105T180000
DTSTAMP:20260422T120954
CREATED:20160922T092136Z
LAST-MODIFIED:20160922T153216Z
UID:2611-1478354400-1478368800@gabriele-panning.de
SUMMARY:Leichter und mit mehr Freude  -   spielerisch eigene Kraftquellen entdecken
DESCRIPTION:Spiele  –  schwinge  –  schweige  –  steh still oder bewege Dich intensiv  –  hör hin  –  stimm ein  –  bleib ganz bei Dir oder folge Anderen  –  probier Dich aus \nDieser kreative Bewegungsworkshop weckt die Köperwahrnehmung\, belebt und bringt in Verbindung \nIm Workshop erlebst Du \n\neinen kreativen\, leichten Zugang zu körperlichen Erfahrungen\nwie Du ein Zuviel an Information oder „blödem Zeugs“ los wirst\nSpaß\, Freude\, Leichtigkeit\, neuen Schwung und frische Energien\ndas wieder-Entdecken kreativer Fähigkeiten\ndas Verbunden-sein mit den anderen TeilnehmerInnen\nkleine Tools\, die sich easy-go in den Alltag integrieren lassen\nStärkung Deiner Widerstandskräft (Resilienz)\n\nDu gewinnst FREUDE an der Bewegung\, Gemeinschaftserfahrung\, mehr Leichtigkeit. \nDu kommst wieder in Kontakt mit Dir selber und mit anderen. \nBegrenzungen lassen sich weiten\, mehr Spiel-Raum entsteht\, und FREUDE an den (fast) unerschöpflichen Möglichkeiten des Körpers breitet sich aus.\nIn einfach angeleiteten Schritten mit Leichtigkeit bewegen wir uns  im Raum\, mit der Sprache\, mit Stimme und Stille\, immer spielerisch.\nInnehalten und Wahrnehmen sind wichtig. \nDieses Tun ist spielerisch und spirituell. \nErlebe Dich\, finde Kontakt und finde den eigenen Rhythmus.\nEntdecke unerforschte Möglichkeiten\, überrasche Dich\, weite Deine Grenzen\, hab Spaß! \nUnabhängig von Alter und Beweglichkeit kann Jede und Jeder sofort mitmachen! \n  \nAnmeldungen spätestens eine Woche vor dem Workshop   –  bitte direkt beim EVA:\nMail: eva-frauenzentrum@frankfurt-evangelisch.de \nTelefon:  069/920 708-0\nAdresse: Saalgassee 15\, 60311 Frankfurt a. M.
URL:https://gabriele-panning.de/event/leichter-und-mit-mehr-freude-spielerisch-eigene-kraftquellen-entdecken/
LOCATION:Hessen
CATEGORIES:InterPlay-Workshop
ATTACH;FMTTYPE=image/jpeg:https://gabriele-panning.de/wp-content/uploads/2016/02/beWEGung-e1474558312725.jpg
ORGANIZER;CN="Evangelisches Frauenbegegnungszentrum%2C Frankfurt":MAILTO:eva-frauenzentrum@frankfurt-evangelisch.de
END:VEVENT
BEGIN:VEVENT
DTSTART;TZID=Europe/Berlin:20161024T180000
DTEND;TZID=Europe/Berlin:20161024T190000
DTSTAMP:20260422T120954
CREATED:20160922T145205Z
LAST-MODIFIED:20161110T140446Z
UID:2620-1477332000-1477335600@gabriele-panning.de
SUMMARY:Lebe leichter und mit mehr Freude!  Online Kurs
DESCRIPTION:4 Tools für eine kreativ-spirituelle Lebenspraxis\n\n Als Theologin und spirituelle Frau habe ich meine frühe Leidenschaft für Bewegung und Tanz wieder entdeckt. \nAls Mensch mit vielen Unfällen und Verletzungserfahrung lerne ich JETZT auf meinen Körper zu hören. \nAls Frau\, die gerne Verbunden-sein erlebt\, habe ich ein Tool gefunden\, das dem Einzelnen Ausdrucksmöglichkeit\, Freude\, tiefe Erfahrungen und vieles mehr schenkt   –     und zugleich verbindende Nähe zu den Anderen. \nIn meinem jetzigen Tun verbinde ich:                                                          \n \n\nAusdruck mit Körper\, Stimme\, Sprache\naufmerksames Wahrnehmen des Körpers als ein spirituelles Tun in Bewegung und Stille\ndas Hören-auf-sich-selber\, das sich-selber- trauen-lernen\nmit intensiver Verbundenheit untereinander\ndurch InterPlay®\n\nIm Webinar gewinnst Du \n\neinen kreativen\, leichten Zugang zu körperlichen Erfahrungen\nMöglichkeiten\, wie Du ein Zuviel an Information oder „blödem Zeugs“ los wirst\nSpaß\, Freude\, Leichtigkeit\, neuen Schwung und frische Energien\ndas wieder-Entdecken kreativer Fähigkeiten\nauch virtuell: das Verbunden-sein mit den anderen TeilnehmerInnen\nkleine Tools\, die sich easy-go in den Alltag integrieren lassen\nStärkung aller vitalen Kräfte  –  Resilienz\n\nBist DU dabei?  \n\nLebe Leichter und mit mehr Freude!   –    Ein Online Kurs mit 6 Modulen\nDas Webinar hat 6 aufeinanderfolgende Termine  –  und zwar zur AUSWAHL jeweils an zwei Tagen\n \nMontag\, 24. Oktober 2016\, 18.00 – 19.00 Uhr   –   oder\n \nMittwoch\, 26. Oktober 2016\, 13.00 – 14.00 Uhr \nDie weiterenTermine \nMontags     31.11.  –  07.11.  –  14.11.  –  21.11.  –  28.11.   immer 18.00  –  19.00 Uhr \nMittwochs 02. 11.  –  09.11.  –  16.11.  –  23.11.  –  30.11  immer 13.00 –  14.00 Uhr\n \n  \nThemen: \n\nKennenlernen in der Gruppe\, Einführung in InterPlay\nInformation /  Ex-Formation   –  werde unnötigen Ballast los\nGute Erfahrungen im Körper –  nimm wahr\, was sich gut anfühlt und tu mehr davon\nDeine innere Autorität –  glaube Dir selber und Deiner Wahrnehmung\nWeicher Fokus –  öffne Deine Wahrnehmung und lass Deine Kreativität leicht fließen\nAbschlussrunde mit Vertiefungen\n\n  \n„Meeting point“: \nmein Online-Raum auf der Plattform GoToMeeting.  \nNach Deiner Anmeldung erhälst Du den Zugangslink für den WebinarRaum. \nFür unser gemeinsames Tun sind Headset und Webcam oder integrierte Kamera und Mikrofon (Notebook) wichtig\, so dass wir uns sehen und hören können.\nGoToMeeting ermöglicht bis zu 6 Videobilder auf dem Screen. Falls das gar nicht zu ermöglichen ist\, geht es auch nur über Ton. \n  \n  \nIncluded: \nzu jedem Tool erhälst Du eine Kurzanleitung mit wichtigen Impulsen und evtl. Links\, weiterführende Info’s \n  \nPreis: \n€ 260 incl. MwSt. \n  \nAnmeldeschluss:   \nFreitag\, 21. Oktober\, 24.00 Uhr \n  \nFür die schnell Entschlossenen: \nIm Preis inbegriffen eine halbe Stunde Coaching mit mir über Telefon\, Skype oder im WebinarRaum bei einer Anmeldung bis zum 07. Oktober.
URL:https://gabriele-panning.de/event/lebe-leichter-und-mit-mehr-freude-online-kurs/
LOCATION:zu Hause am PC
CATEGORIES:InterPlay-Online Kurs
ATTACH;FMTTYPE=image/jpeg:https://gabriele-panning.de/wp-content/uploads/2016/09/schwung-voll-e1474558444977.jpg
END:VEVENT
END:VCALENDAR